Package: ELMER Version: 2.32.0 Command: chmod a+r ELMER -R && E:\biocbuild\bbs-3.21-bioc\R\bin\R.exe CMD build --keep-empty-dirs --no-resave-data ELMER StartedAt: 2025-08-14 18:47:26 -0400 (Thu, 14 Aug 2025) EndedAt: 2025-08-14 18:57:49 -0400 (Thu, 14 Aug 2025) EllapsedTime: 623.2 seconds RetCode: 0 Status: OK PackageFile: ELMER_2.32.0.tar.gz PackageFileSize: 42.8 MiB