Package: ELMER Version: 2.32.0 Command: rm -rf ELMER.buildbin-libdir && mkdir ELMER.buildbin-libdir && E:\biocbuild\bbs-3.21-bioc\R\bin\R.exe CMD INSTALL --build --library=ELMER.buildbin-libdir ELMER_2.32.0.tar.gz StartedAt: 2025-08-15 09:13:45 -0400 (Fri, 15 Aug 2025) EndedAt: 2025-08-15 09:15:28 -0400 (Fri, 15 Aug 2025) EllapsedTime: 103.1 seconds RetCode: 0 Status: OK PackageFile: ELMER_2.32.0.zip PackageFileSize: 40.34 MiB