Package: ELMER Version: 2.32.0 Command: /home/biocbuild/R/R/bin/R CMD INSTALL ELMER StartedAt: 2025-10-13 21:05:43 -0000 (Mon, 13 Oct 2025) EndedAt: 2025-10-13 21:07:01 -0000 (Mon, 13 Oct 2025) EllapsedTime: 78.0 seconds RetCode: 0 Status: OK