############################################################################## ############################################################################## ### ### Running command: ### ### /home/biocbuild/R/R/bin/R CMD check --install=check:ELMER.install-out.txt --library=/home/biocbuild/R/R/site-library --no-vignettes --timings ELMER_2.32.0.tar.gz ### ############################################################################## ############################################################################## * using log directory ‘/home/biocbuild/bbs-3.21-bioc/meat/ELMER.Rcheck’ * using R Under development (unstable) (2025-02-19 r87757) * using platform: aarch64-unknown-linux-gnu * R was compiled by aarch64-unknown-linux-gnu-gcc (GCC) 14.2.0 GNU Fortran (GCC) 14.2.0 * running under: openEuler 24.03 (LTS-SP1) * using session charset: UTF-8 * using option ‘--no-vignettes’ * checking for file ‘ELMER/DESCRIPTION’ ... OK * this is package ‘ELMER’ version ‘2.32.0’ * package encoding: UTF-8 * checking package namespace information ... OK * checking package dependencies ... INFO Imports includes 38 non-default packages. Importing from so many packages makes the package vulnerable to any of them becoming unavailable. Move as many as possible to Suggests and use conditionally. * checking if this is a source package ... OK * checking if there is a namespace ... OK * checking for hidden files and directories ... OK * checking for portable file names ... OK * checking for sufficient/correct file permissions ... OK * checking whether package ‘ELMER’ can be installed ... OK * checking installed package size ... OK * checking package directory ... OK * checking ‘build’ directory ... OK * checking DESCRIPTION meta-information ... OK * checking top-level files ... OK * checking for left-over files ... OK * checking index information ... OK * checking package subdirectories ... OK * checking code files for non-ASCII characters ... OK * checking R files for syntax errors ... OK * checking whether the package can be loaded ... OK * checking whether the package can be loaded with stated dependencies ... OK * checking whether the package can be unloaded cleanly ... OK * checking whether the namespace can be loaded with stated dependencies ... OK * checking whether the namespace can be unloaded cleanly ... OK * checking loading without being on the library search path ... OK * checking dependencies in R code ... OK * checking S3 generic/method consistency ... OK * checking replacement functions ... OK * checking foreign function calls ... OK * checking R code for possible problems ... NOTE addMutCol: no visible binding for global variable 'Hugo_Symbol' calcDistNearestTSS: no visible binding for global variable 'DistanceTSS' getRegionNearGenes : f: no visible binding for global variable 'Side' getRegionNearGenes: no visible binding for global variable 'ID' getTFtargets: no visible binding for global variable 'TF' Undefined global functions or variables: DistanceTSS Hugo_Symbol ID Side TF * checking Rd files ... NOTE checkRd: (-1) createBigWigDNAmetArray.Rd:22: Lost braces; missing escapes or markup? 22 | \item{track.names}{Provide a list of track names (.bw) otherwise the deault is the will be {samples}.bw} | ^ * checking Rd metadata ... OK * checking Rd cross-references ... OK * checking for missing documentation entries ... OK * checking for code/documentation mismatches ... OK * checking Rd \usage sections ... OK * checking Rd contents ... OK * checking for unstated dependencies in examples ... OK * checking files in ‘vignettes’ ... OK * checking examples ... OK Examples with CPU (user + system) or elapsed time > 5s user system elapsed TCGA.pipe 92.156 0.997 107.178 getRandomPairs 31.545 2.041 42.585 schematic.plot 28.005 1.341 43.198 createMAE 25.639 1.598 45.780 get.feature.probe 15.423 6.990 31.937 scatter.plot 21.072 0.595 21.732 get.enriched.motif 18.744 0.876 24.498 get.pair 12.320 0.906 13.261 GetNearGenes 11.608 0.192 11.829 getRegionNearGenes 8.627 0.051 8.702 preAssociationProbeFiltering 7.688 0.362 13.327 getTCGA 6.234 0.673 39.479 get.diff.meth 2.796 0.176 5.089 * checking for unstated dependencies in ‘tests’ ... OK * checking tests ... Running ‘testthat.R’ OK * checking for unstated dependencies in vignettes ... OK * checking package vignettes ... OK * checking running R code from vignettes ... SKIPPED * checking re-building of vignette outputs ... SKIPPED * checking PDF version of manual ... OK * DONE Status: 2 NOTEs See ‘/home/biocbuild/bbs-3.21-bioc/meat/ELMER.Rcheck/00check.log’ for details.