Package: ELMER Version: 2.32.0 Command: /home/biocbuild/R/R/bin/R CMD build --keep-empty-dirs --no-resave-data ELMER StartedAt: 2025-10-14 00:33:28 -0000 (Tue, 14 Oct 2025) EndedAt: 2025-10-14 00:51:29 -0000 (Tue, 14 Oct 2025) EllapsedTime: 1081.3 seconds RetCode: 0 Status: OK PackageFile: ELMER_2.32.0.tar.gz PackageFileSize: 45.04 MiB