Package: EGSEA Version: 1.36.0 Command: E:\biocbuild\bbs-3.21-bioc\R\bin\R.exe CMD check --no-multiarch --install=check:EGSEA.install-out.txt --library=E:\biocbuild\bbs-3.21-bioc\R\library --no-vignettes --timings EGSEA_1.36.0.tar.gz StartedAt: 2025-08-15 01:49:14 -0400 (Fri, 15 Aug 2025) EndedAt: 2025-08-15 01:59:49 -0400 (Fri, 15 Aug 2025) EllapsedTime: 634.3 seconds RetCode: 0 Status: OK CheckDir: EGSEA.Rcheck Warnings: 0