Package: EGSEA Version: 1.36.0 Command: /Library/Frameworks/R.framework/Resources/bin/R CMD check --install=check:EGSEA.install-out.txt --library=/Library/Frameworks/R.framework/Resources/library --no-vignettes --timings EGSEA_1.36.0.tar.gz StartedAt: 2025-10-14 03:17:36 -0400 (Tue, 14 Oct 2025) EndedAt: 2025-10-14 03:35:48 -0400 (Tue, 14 Oct 2025) EllapsedTime: 1091.8 seconds RetCode: 0 Status: OK CheckDir: EGSEA.Rcheck Warnings: 0