Package: EGSEA Version: 1.36.0 Command: /home/biocbuild/R/R/bin/R CMD check --install=check:EGSEA.install-out.txt --library=/home/biocbuild/R/R/site-library --no-vignettes --timings EGSEA_1.36.0.tar.gz StartedAt: 2025-10-14 08:48:37 -0000 (Tue, 14 Oct 2025) EndedAt: 2025-10-14 09:00:13 -0000 (Tue, 14 Oct 2025) EllapsedTime: 695.8 seconds RetCode: 0 Status: OK CheckDir: EGSEA.Rcheck Warnings: 0