Package: EGSEA Version: 1.36.0 Command: /home/biocbuild/R/R/bin/R CMD build --keep-empty-dirs --no-resave-data EGSEA StartedAt: 2025-10-14 00:33:05 -0000 (Tue, 14 Oct 2025) EndedAt: 2025-10-14 00:38:57 -0000 (Tue, 14 Oct 2025) EllapsedTime: 352.1 seconds RetCode: 0 Status: OK PackageFile: EGSEA_1.36.0.tar.gz PackageFileSize: 2.102 MiB