Package: EGSEA Version: 1.36.0 Command: /Library/Frameworks/R.framework/Resources/bin/R CMD check --install=check:EGSEA.install-out.txt --library=/Library/Frameworks/R.framework/Resources/library --no-vignettes --timings EGSEA_1.36.0.tar.gz StartedAt: 2025-04-21 19:14:24 -0400 (Mon, 21 Apr 2025) EndedAt: 2025-04-21 19:17:51 -0400 (Mon, 21 Apr 2025) EllapsedTime: 206.4 seconds RetCode: 0 Status: OK CheckDir: EGSEA.Rcheck Warnings: 0