Package: EGSEA Version: 1.36.0 Command: rm -rf EGSEA.buildbin-libdir && mkdir EGSEA.buildbin-libdir && /Users/biocbuild/BBS/utils/build-universal.sh EGSEA_1.36.0.tar.gz /Library/Frameworks/R.framework/Resources/bin/R EGSEA.buildbin-libdir StartedAt: 2025-10-15 18:21:12 -0400 (Wed, 15 Oct 2025) EndedAt: 2025-10-15 18:22:24 -0400 (Wed, 15 Oct 2025) EllapsedTime: 71.9 seconds RetCode: 0 Status: OK PackageFile: EGSEA_1.36.0.tgz PackageFileSize: 2.433 MiB