Package: EDIRquery Version: 1.8.0 Command: rm -rf EDIRquery.buildbin-libdir && mkdir EDIRquery.buildbin-libdir && E:\biocbuild\bbs-3.21-bioc\R\bin\R.exe CMD INSTALL --build --library=EDIRquery.buildbin-libdir EDIRquery_1.8.0.tar.gz StartedAt: 2025-08-15 09:13:27 -0400 (Fri, 15 Aug 2025) EndedAt: 2025-08-15 09:14:12 -0400 (Fri, 15 Aug 2025) EllapsedTime: 45.0 seconds RetCode: 0 Status: OK PackageFile: EDIRquery_1.8.0.zip PackageFileSize: 1.629 MiB