Package: EBSeq Version: 2.6.0 Command: chmod a+r EBSeq -R && E:\biocbuild\bbs-3.21-bioc\R\bin\R.exe CMD build --keep-empty-dirs --no-resave-data EBSeq StartedAt: 2025-08-14 18:46:13 -0400 (Thu, 14 Aug 2025) EndedAt: 2025-08-14 18:46:22 -0400 (Thu, 14 Aug 2025) EllapsedTime: 8.9 seconds RetCode: 0 Status: OK PackageFile: EBSeq_2.6.0.tar.gz PackageFileSize: 1.069 MiB