Package: EBSeq Version: 2.6.0 Command: /home/biocbuild/bbs-3.21-bioc/R/bin/R CMD check --install=check:EBSeq.install-out.txt --library=/home/biocbuild/bbs-3.21-bioc/R/site-library --timings EBSeq_2.6.0.tar.gz StartedAt: 2025-10-01 22:54:22 -0400 (Wed, 01 Oct 2025) EndedAt: 2025-10-01 22:55:18 -0400 (Wed, 01 Oct 2025) EllapsedTime: 55.1 seconds RetCode: 0 Status: WARNINGS CheckDir: EBSeq.Rcheck Warnings: 2