Package: EBSeq Version: 2.6.0 Command: /home/biocbuild/bbs-3.21-bioc/R/bin/R CMD build --keep-empty-dirs --no-resave-data EBSeq StartedAt: 2025-10-01 17:22:59 -0400 (Wed, 01 Oct 2025) EndedAt: 2025-10-01 17:23:01 -0400 (Wed, 01 Oct 2025) EllapsedTime: 2.0 seconds RetCode: 0 Status: OK PackageFile: EBSeq_2.6.0.tar.gz PackageFileSize: 1.069 MiB