Package: EBSeq Version: 2.6.0 Command: /Library/Frameworks/R.framework/Resources/bin/R CMD check --install=check:EBSeq.install-out.txt --library=/Library/Frameworks/R.framework/Resources/library --no-vignettes --timings EBSeq_2.6.0.tar.gz StartedAt: 2025-10-07 03:11:44 -0400 (Tue, 07 Oct 2025) EndedAt: 2025-10-07 03:13:43 -0400 (Tue, 07 Oct 2025) EllapsedTime: 119.6 seconds RetCode: 0 Status: WARNINGS CheckDir: EBSeq.Rcheck Warnings: 1