Package: EBSeq Version: 2.6.0 Command: rm -rf EBSeq.buildbin-libdir && mkdir EBSeq.buildbin-libdir && /Users/biocbuild/BBS/utils/build-universal.sh EBSeq_2.6.0.tar.gz /Library/Frameworks/R.framework/Resources/bin/R EBSeq.buildbin-libdir StartedAt: 2025-10-03 13:07:03 -0400 (Fri, 03 Oct 2025) EndedAt: 2025-10-03 13:08:09 -0400 (Fri, 03 Oct 2025) EllapsedTime: 65.5 seconds RetCode: 0 Status: OK PackageFile: EBSeq_2.6.0.tgz PackageFileSize: 1.192 MiB