Package: EBSeq Version: 2.6.0 Command: /home/biocbuild/R/R/bin/R CMD INSTALL EBSeq StartedAt: 2025-09-29 20:22:26 -0000 (Mon, 29 Sep 2025) EndedAt: 2025-09-29 20:23:23 -0000 (Mon, 29 Sep 2025) EllapsedTime: 56.6 seconds RetCode: 0 Status: OK