Package: EBSeq Version: 2.6.0 Maintainer: Xiuyu Ma MaintainerEmail: watsonforfun at gmail.com git_url: https://git.bioconductor.org/packages/EBSeq git_branch: RELEASE_3_21 git_last_commit: c4e5f5a git_last_commit_date: 2025-06-25 03:16:21 -0400 (Wed, 25 Jun 2025)