Package: EBSEA Version: 1.36.0 Command: E:\biocbuild\bbs-3.21-bioc\R\bin\R.exe CMD check --no-multiarch --install=check:EBSEA.install-out.txt --library=E:\biocbuild\bbs-3.21-bioc\R\library --no-vignettes --timings EBSEA_1.36.0.tar.gz StartedAt: 2025-08-15 01:46:59 -0400 (Fri, 15 Aug 2025) EndedAt: 2025-08-15 01:50:29 -0400 (Fri, 15 Aug 2025) EllapsedTime: 209.7 seconds RetCode: 0 Status: OK CheckDir: EBSEA.Rcheck Warnings: 0