Package: EBSEA Version: 1.36.0 Command: chmod a+r EBSEA -R && E:\biocbuild\bbs-3.21-bioc\R\bin\R.exe CMD build --keep-empty-dirs --no-resave-data EBSEA StartedAt: 2025-08-14 18:46:06 -0400 (Thu, 14 Aug 2025) EndedAt: 2025-08-14 18:47:03 -0400 (Thu, 14 Aug 2025) EllapsedTime: 56.4 seconds RetCode: 0 Status: OK PackageFile: EBSEA_1.36.0.tar.gz PackageFileSize: 31.39 KiB