Package: EBSEA Version: 1.36.0 Command: rm -rf EBSEA.buildbin-libdir && mkdir EBSEA.buildbin-libdir && E:\biocbuild\bbs-3.21-bioc\R\bin\R.exe CMD INSTALL --build --library=EBSEA.buildbin-libdir EBSEA_1.36.0.tar.gz StartedAt: 2025-08-15 09:13:12 -0400 (Fri, 15 Aug 2025) EndedAt: 2025-08-15 09:13:43 -0400 (Fri, 15 Aug 2025) EllapsedTime: 31.5 seconds RetCode: 0 Status: OK PackageFile: EBSEA_1.36.0.zip PackageFileSize: 55.2 KiB