Package: EBSEA Version: 1.36.0 Command: /home/biocbuild/bbs-3.21-bioc/R/bin/R CMD INSTALL EBSEA StartedAt: 2025-10-15 15:30:06 -0400 (Wed, 15 Oct 2025) EndedAt: 2025-10-15 15:30:29 -0400 (Wed, 15 Oct 2025) EllapsedTime: 23.2 seconds RetCode: 0 Status: OK