Package: DuplexDiscovereR Version: 1.2.0 Command: /Library/Frameworks/R.framework/Resources/bin/R CMD INSTALL DuplexDiscovereR StartedAt: 2025-10-13 17:42:07 -0400 (Mon, 13 Oct 2025) EndedAt: 2025-10-13 17:43:53 -0400 (Mon, 13 Oct 2025) EllapsedTime: 106.2 seconds RetCode: 0 Status: OK