Package: DrugVsDisease Version: 2.50.0 Command: /home/biocbuild/bbs-3.21-bioc/R/bin/R CMD check --install=check:DrugVsDisease.install-out.txt --library=/home/biocbuild/bbs-3.21-bioc/R/site-library --timings DrugVsDisease_2.50.0.tar.gz StartedAt: 2025-10-15 22:50:08 -0400 (Wed, 15 Oct 2025) EndedAt: 2025-10-15 22:52:57 -0400 (Wed, 15 Oct 2025) EllapsedTime: 169.2 seconds RetCode: 0 Status: OK CheckDir: DrugVsDisease.Rcheck Warnings: 0