Package: DrugVsDisease Version: 2.50.0 Command: /Library/Frameworks/R.framework/Resources/bin/R CMD INSTALL DrugVsDisease StartedAt: 2025-10-13 16:03:13 -0400 (Mon, 13 Oct 2025) EndedAt: 2025-10-13 16:04:28 -0400 (Mon, 13 Oct 2025) EllapsedTime: 74.4 seconds RetCode: 0 Status: OK