Package: DrugVsDisease Version: 2.50.0 Command: /Library/Frameworks/R.framework/Resources/bin/R CMD build --keep-empty-dirs --no-resave-data DrugVsDisease StartedAt: 2025-04-21 16:40:23 -0400 (Mon, 21 Apr 2025) EndedAt: 2025-04-21 16:41:11 -0400 (Mon, 21 Apr 2025) EllapsedTime: 48.0 seconds RetCode: 0 Status: OK PackageFile: DrugVsDisease_2.50.0.tar.gz PackageFileSize: 1.829 MiB