Package: DrugVsDisease Version: 2.50.0 Command: /Library/Frameworks/R.framework/Resources/bin/R CMD check --install=check:DrugVsDisease.install-out.txt --library=/Library/Frameworks/R.framework/Resources/library --no-vignettes --timings DrugVsDisease_2.50.0.tar.gz StartedAt: 2025-04-21 19:12:02 -0400 (Mon, 21 Apr 2025) EndedAt: 2025-04-21 19:13:11 -0400 (Mon, 21 Apr 2025) EllapsedTime: 68.8 seconds RetCode: 1 Status: ERROR CheckDir: DrugVsDisease.Rcheck Warnings: NA