Package: DrugVsDisease Version: 2.50.0 Command: rm -rf DrugVsDisease.buildbin-libdir && mkdir DrugVsDisease.buildbin-libdir && /Users/biocbuild/BBS/utils/build-universal.sh DrugVsDisease_2.50.0.tar.gz /Library/Frameworks/R.framework/Resources/bin/R DrugVsDisease.buildbin-libdir StartedAt: 2025-04-21 22:33:43 -0400 (Mon, 21 Apr 2025) EndedAt: 2025-04-21 22:33:59 -0400 (Mon, 21 Apr 2025) EllapsedTime: 16.4 seconds RetCode: 0 Status: OK PackageFile: DrugVsDisease_2.50.0.tgz PackageFileSize: 2.698 MiB