Package: DrugVsDisease Version: 2.50.0 Command: /Library/Frameworks/R.framework/Resources/bin/R CMD check --install=check:DrugVsDisease.install-out.txt --library=/Library/Frameworks/R.framework/Resources/library --no-vignettes --timings DrugVsDisease_2.50.0.tar.gz StartedAt: 2025-10-14 20:13:36 -0400 (Tue, 14 Oct 2025) EndedAt: 2025-10-14 20:16:59 -0400 (Tue, 14 Oct 2025) EllapsedTime: 203.5 seconds RetCode: 1 Status: ERROR CheckDir: DrugVsDisease.Rcheck Warnings: NA