Package: Doscheda Version: 1.30.0 Command: /home/biocbuild/bbs-3.21-bioc/R/bin/R CMD check --install=check:Doscheda.install-out.txt --library=/home/biocbuild/bbs-3.21-bioc/R/site-library --timings Doscheda_1.30.0.tar.gz StartedAt: 2025-10-15 22:46:56 -0400 (Wed, 15 Oct 2025) EndedAt: 2025-10-15 22:51:03 -0400 (Wed, 15 Oct 2025) EllapsedTime: 247.2 seconds RetCode: 0 Status: OK CheckDir: Doscheda.Rcheck Warnings: 0