Package: Doscheda Version: 1.30.0 Command: /home/biocbuild/bbs-3.21-bioc/R/bin/R CMD build --keep-empty-dirs --no-resave-data Doscheda StartedAt: 2025-10-15 17:17:13 -0400 (Wed, 15 Oct 2025) EndedAt: 2025-10-15 17:18:02 -0400 (Wed, 15 Oct 2025) EllapsedTime: 49.0 seconds RetCode: 0 Status: OK PackageFile: Doscheda_1.30.0.tar.gz PackageFileSize: 3.783 MiB