Package: DominoEffect Version: 1.28.0 Command: /home/biocbuild/R/R/bin/R CMD INSTALL DominoEffect StartedAt: 2025-10-13 21:07:13 -0000 (Mon, 13 Oct 2025) EndedAt: 2025-10-13 21:08:11 -0000 (Mon, 13 Oct 2025) EllapsedTime: 58.8 seconds RetCode: 0 Status: OK