Package: DominoEffect Version: 1.28.0 Command: /Library/Frameworks/R.framework/Resources/bin/R CMD check --install=check:DominoEffect.install-out.txt --library=/Library/Frameworks/R.framework/Resources/library --no-vignettes --timings DominoEffect_1.28.0.tar.gz StartedAt: 2025-10-14 20:00:56 -0400 (Tue, 14 Oct 2025) EndedAt: 2025-10-14 20:06:59 -0400 (Tue, 14 Oct 2025) EllapsedTime: 363.1 seconds RetCode: 0 Status: OK CheckDir: DominoEffect.Rcheck Warnings: 0