Package: DominoEffect Version: 1.28.0 Command: rm -rf DominoEffect.buildbin-libdir && mkdir DominoEffect.buildbin-libdir && /Users/biocbuild/BBS/utils/build-universal.sh DominoEffect_1.28.0.tar.gz /Library/Frameworks/R.framework/Resources/bin/R DominoEffect.buildbin-libdir StartedAt: 2025-10-15 18:17:24 -0400 (Wed, 15 Oct 2025) EndedAt: 2025-10-15 18:18:18 -0400 (Wed, 15 Oct 2025) EllapsedTime: 54.0 seconds RetCode: 0 Status: OK PackageFile: DominoEffect_1.28.0.tgz PackageFileSize: 547.7 KiB