Package: DiscoRhythm Version: 1.24.0 Command: E:\biocbuild\bbs-3.21-bioc\R\bin\R.exe CMD check --no-multiarch --install=check:DiscoRhythm.install-out.txt --library=E:\biocbuild\bbs-3.21-bioc\R\library --no-vignettes --timings DiscoRhythm_1.24.0.tar.gz StartedAt: 2025-08-15 01:35:34 -0400 (Fri, 15 Aug 2025) EndedAt: 2025-08-15 01:39:55 -0400 (Fri, 15 Aug 2025) EllapsedTime: 261.3 seconds RetCode: 0 Status: OK CheckDir: DiscoRhythm.Rcheck Warnings: 0