Package: DiscoRhythm Version: 1.24.0 Command: chmod a+r DiscoRhythm -R && E:\biocbuild\bbs-3.21-bioc\R\bin\R.exe CMD build --keep-empty-dirs --no-resave-data DiscoRhythm StartedAt: 2025-08-14 18:39:55 -0400 (Thu, 14 Aug 2025) EndedAt: 2025-08-14 18:41:15 -0400 (Thu, 14 Aug 2025) EllapsedTime: 80.4 seconds RetCode: 0 Status: OK PackageFile: DiscoRhythm_1.24.0.tar.gz PackageFileSize: 2.522 MiB