Package: DiscoRhythm Version: 1.24.0 Command: /home/biocbuild/bbs-3.21-bioc/R/bin/R CMD check --install=check:DiscoRhythm.install-out.txt --library=/home/biocbuild/bbs-3.21-bioc/R/site-library --timings DiscoRhythm_1.24.0.tar.gz StartedAt: 2025-10-15 22:42:36 -0400 (Wed, 15 Oct 2025) EndedAt: 2025-10-15 22:46:36 -0400 (Wed, 15 Oct 2025) EllapsedTime: 240.3 seconds RetCode: 0 Status: OK CheckDir: DiscoRhythm.Rcheck Warnings: 0