Package: DiscoRhythm Version: 1.24.0 Command: /home/biocbuild/bbs-3.21-bioc/R/bin/R CMD build --keep-empty-dirs --no-resave-data DiscoRhythm StartedAt: 2025-10-15 17:14:39 -0400 (Wed, 15 Oct 2025) EndedAt: 2025-10-15 17:15:23 -0400 (Wed, 15 Oct 2025) EllapsedTime: 44.0 seconds RetCode: 0 Status: OK PackageFile: DiscoRhythm_1.24.0.tar.gz PackageFileSize: 2.522 MiB