Package: DiscoRhythm Version: 1.24.0 Command: /Library/Frameworks/R.framework/Resources/bin/R CMD INSTALL DiscoRhythm StartedAt: 2025-10-13 15:31:57 -0400 (Mon, 13 Oct 2025) EndedAt: 2025-10-13 15:32:54 -0400 (Mon, 13 Oct 2025) EllapsedTime: 57.0 seconds RetCode: 0 Status: OK