Package: DiscoRhythm Version: 1.24.0 Command: /Library/Frameworks/R.framework/Resources/bin/R CMD build --keep-empty-dirs --no-resave-data DiscoRhythm StartedAt: 2025-10-13 18:40:06 -0400 (Mon, 13 Oct 2025) EndedAt: 2025-10-13 18:41:53 -0400 (Mon, 13 Oct 2025) EllapsedTime: 107.0 seconds RetCode: 0 Status: OK PackageFile: DiscoRhythm_1.24.0.tar.gz PackageFileSize: 2.522 MiB