Package: DiscoRhythm Version: 1.24.0 Command: /Library/Frameworks/R.framework/Resources/bin/R CMD build --keep-empty-dirs --no-resave-data DiscoRhythm StartedAt: 2025-04-21 16:38:00 -0400 (Mon, 21 Apr 2025) EndedAt: 2025-04-21 16:38:58 -0400 (Mon, 21 Apr 2025) EllapsedTime: 58.2 seconds RetCode: 0 Status: OK PackageFile: DiscoRhythm_1.24.0.tar.gz PackageFileSize: 2.522 MiB