Package: DiscoRhythm Version: 1.24.0 Command: /home/biocbuild/R/R/bin/R CMD INSTALL DiscoRhythm StartedAt: 2025-10-13 20:30:06 -0000 (Mon, 13 Oct 2025) EndedAt: 2025-10-13 20:30:43 -0000 (Mon, 13 Oct 2025) EllapsedTime: 37.0 seconds RetCode: 0 Status: OK