Package: DiscoRhythm Version: 1.24.0 Command: /home/biocbuild/R/R/bin/R CMD check --install=check:DiscoRhythm.install-out.txt --library=/home/biocbuild/R/R/site-library --no-vignettes --timings DiscoRhythm_1.24.0.tar.gz StartedAt: 2025-10-14 08:33:36 -0000 (Tue, 14 Oct 2025) EndedAt: 2025-10-14 08:38:03 -0000 (Tue, 14 Oct 2025) EllapsedTime: 266.2 seconds RetCode: 1 Status: ERROR CheckDir: DiscoRhythm.Rcheck Warnings: NA