Package: DirichletMultinomial Version: 1.50.0 Command: /home/biocbuild/R/R/bin/R CMD build --keep-empty-dirs --no-resave-data DirichletMultinomial StartedAt: 2025-10-14 00:23:31 -0000 (Tue, 14 Oct 2025) EndedAt: 2025-10-14 00:23:53 -0000 (Tue, 14 Oct 2025) EllapsedTime: 22.0 seconds RetCode: 0 Status: OK PackageFile: DirichletMultinomial_1.50.0.tar.gz PackageFileSize: 1.098 MiB