Package: Director Version: 1.34.0 Command: /home/biocbuild/bbs-3.21-bioc/R/bin/R CMD INSTALL Director StartedAt: 2025-10-15 15:06:38 -0400 (Wed, 15 Oct 2025) EndedAt: 2025-10-15 15:07:12 -0400 (Wed, 15 Oct 2025) EllapsedTime: 33.7 seconds RetCode: 0 Status: OK