Package: Director Version: 1.34.0 Command: /home/biocbuild/bbs-3.21-bioc/R/bin/R CMD check --install=check:Director.install-out.txt --library=/home/biocbuild/bbs-3.21-bioc/R/site-library --timings Director_1.34.0.tar.gz StartedAt: 2025-10-12 22:44:50 -0400 (Sun, 12 Oct 2025) EndedAt: 2025-10-12 22:45:14 -0400 (Sun, 12 Oct 2025) EllapsedTime: 24.0 seconds RetCode: 0 Status: OK CheckDir: Director.Rcheck Warnings: 0