Package: Director Version: 1.34.0 Command: /home/biocbuild/R/R/bin/R CMD build --keep-empty-dirs --no-resave-data Director StartedAt: 2025-10-03 00:27:18 -0000 (Fri, 03 Oct 2025) EndedAt: 2025-10-03 00:27:26 -0000 (Fri, 03 Oct 2025) EllapsedTime: 8.0 seconds RetCode: 0 Status: OK PackageFile: Director_1.34.0.tar.gz PackageFileSize: 685.1 KiB