Package: Dino Version: 1.14.0 Command: rm -rf Dino.buildbin-libdir && mkdir Dino.buildbin-libdir && /Users/biocbuild/BBS/utils/build-universal.sh Dino_1.14.0.tar.gz /Library/Frameworks/R.framework/Resources/bin/R Dino.buildbin-libdir StartedAt: 2025-04-22 00:42:40 -0400 (Tue, 22 Apr 2025) EndedAt: 2025-04-22 00:43:38 -0400 (Tue, 22 Apr 2025) EllapsedTime: 57.8 seconds RetCode: 0 Status: OK PackageFile: Dino_1.14.0.tgz PackageFileSize: 1.572 MiB