Package: DepecheR Version: 1.24.0 Command: /home/biocbuild/bbs-3.21-bioc/R/bin/R CMD INSTALL DepecheR StartedAt: 2025-10-01 15:13:10 -0400 (Wed, 01 Oct 2025) EndedAt: 2025-10-01 15:13:47 -0400 (Wed, 01 Oct 2025) EllapsedTime: 37.5 seconds RetCode: 0 Status: OK